BEGIN:VCALENDAR
VERSION:2.0
PRODID:-//wp-events-plugin.com//7.2.3.1//EN
TZID:Europe/Helsinki
X-WR-TIMEZONE:Europe/Helsinki
BEGIN:VEVENT
UID:36@energyefficiencymovement.com
DTSTART;TZID=Europe/Zurich:20260526T083000
DTEND;TZID=Europe/Zurich:20260527T160000
DTSTAMP:20260402T044845Z
URL:https://www.energyefficiencymovement.com/events/cep-2026-conference/
SUMMARY:CEP 2026 Conference
DESCRIPTION:The CEP annual conference is New Zealand’s premier learning e
 vent for energy efficiency\, carbon management and sustainability professi
 onals. The leading voices in best practice use this event to exchange idea
 s\, innovations and experience through presentation sessions\, workshops a
 nd informal discussions. There is also a trade exhibition showcasing the l
 atest innovations in efficiency and carbon management.\n\nConference Organ
 isers: ForumPoint2 Conference Partners | conference@fp2.co.nz\n\nINFO &amp
 \; REGISTRATION: https://cep.org.nz/events/conference/
ATTACH;FMTTYPE=image/jpeg:https://www.energyefficiencymovement.com/wp-cont
 ent/uploads/2026/01/CEP2026-Banner-25years-small.png
LOCATION:Claudelands Events Centre\, Corner of Brooklyn Road and Heaphy Ter
 race\, Claudelands\, Hamilton\, 3240\, Waikato\, New Zealand
X-APPLE-STRUCTURED-LOCATION;VALUE=URI;X-ADDRESS=Corner of Brooklyn Road and
  Heaphy Terrace\, Claudelands\, Hamilton\, 3240\, Waikato\, New Zealand;X-
 APPLE-RADIUS=100;X-TITLE=Claudelands Events Centre:geo:0,0
END:VEVENT
BEGIN:VEVENT
UID:30@energyefficiencymovement.com
DTSTART;TZID=America/Toronto;VALUE=DATE:20260629
DTEND;TZID=America/Toronto;VALUE=DATE:20260701
DTSTAMP:20260326T084134Z
URL:https://www.energyefficiencymovement.com/events/11th-annual-iea-global
 -conference-on-energy-efficiency/
SUMMARY:11th Annual IEA Global Conference on Energy Efficiency
DESCRIPTION:IEA Executive Director Fatih Birol and Canada’s Minister of E
 nergy and Natural Resources Tim Hodgson will co-host 11th Annual IEA Globa
 l Conference on Energy Efficiency\nEvent information\n\nEvent news release
  on iea.org
ATTACH;FMTTYPE=image/jpeg:https://www.energyefficiencymovement.com/wp-cont
 ent/uploads/2025/11/matthias-mullie-VAxCHgJvZ0g-unsplash-scaled.jpg
LOCATION:To be announced\, To be announced\, Montreal\, Canada
X-APPLE-STRUCTURED-LOCATION;VALUE=URI;X-ADDRESS=To be announced\, Montreal\
 , Canada;X-APPLE-RADIUS=100;X-TITLE=To be announced:geo:0,0
END:VEVENT
BEGIN:VTIMEZONE
TZID:Europe/Zurich
X-LIC-LOCATION:Europe/Zurich
BEGIN:DAYLIGHT
DTSTART:20260329T030000
TZOFFSETFROM:+0100
TZOFFSETTO:+0200
TZNAME:CEST
END:DAYLIGHT
END:VTIMEZONE
BEGIN:VTIMEZONE
TZID:America/Toronto
X-LIC-LOCATION:America/Toronto
BEGIN:DAYLIGHT
DTSTART:20260308T030000
TZOFFSETFROM:-0500
TZOFFSETTO:-0400
TZNAME:EDT
END:DAYLIGHT
END:VTIMEZONE
END:VCALENDAR